BEGIN:VCALENDAR
VERSION:2.0
PRODID:-//Fulton County Speaks - ECPv6.11.0.1//NONSGML v1.0//EN
CALSCALE:GREGORIAN
METHOD:PUBLISH
X-ORIGINAL-URL:https://fultoncountyspeaks.com
X-WR-CALDESC:Events for Fulton County Speaks
REFRESH-INTERVAL;VALUE=DURATION:PT1H
X-Robots-Tag:noindex
X-PUBLISHED-TTL:PT1H
BEGIN:VTIMEZONE
TZID:UTC
BEGIN:STANDARD
TZOFFSETFROM:+0000
TZOFFSETTO:+0000
TZNAME:UTC
DTSTART:20260101T000000
END:STANDARD
END:VTIMEZONE
BEGIN:VEVENT
DTSTART;TZID=UTC:20260404T083000
DTEND;TZID=UTC:20261114T123000
DTSTAMP:20260420T104327
CREATED:20260403T050209Z
LAST-MODIFIED:20260403T050209Z
UID:1050-1775291400-1794659400@fultoncountyspeaks.com
SUMMARY:Alpharetta Farmer's Market
DESCRIPTION:It’s that time of year again – when friends and families kick-off their weekends with a Saturday stroll through the Farmers Market in downtown Alpharetta. \nFarmers bring fresh produce\, bakers have all kinds of yummy treats\, and artisans proudly present their handcrafted goods. \nThe walk is free – what you buy is up to you. But with all these goodies\, it’s unlikely you will leave empty handed.  Enjoy!
URL:https://fultoncountyspeaks.com/event/alpharetta-farmers-market-2/
LOCATION:Downtown Alpharetta\, 2 Park Plaza\, Alpharetta\, Georgia\, 30009
CATEGORIES:Community events
ATTACH;FMTTYPE=image/jpeg:https://fultoncountyspeaks.com/wp-content/uploads/2025/04/AdobeStock_115252465-1-scaled.jpeg
END:VEVENT
END:VCALENDAR