BEGIN:VCALENDAR
VERSION:2.0
PRODID:-//Fulton County Speaks - ECPv6.11.0.1//NONSGML v1.0//EN
CALSCALE:GREGORIAN
METHOD:PUBLISH
X-ORIGINAL-URL:https://fultoncountyspeaks.com
X-WR-CALDESC:Events for Fulton County Speaks
REFRESH-INTERVAL;VALUE=DURATION:PT1H
X-Robots-Tag:noindex
X-PUBLISHED-TTL:PT1H
BEGIN:VTIMEZONE
TZID:UTC
BEGIN:STANDARD
TZOFFSETFROM:+0000
TZOFFSETTO:+0000
TZNAME:UTC
DTSTART:20250101T000000
END:STANDARD
END:VTIMEZONE
BEGIN:VEVENT
DTSTART;TZID=UTC:20260331T080000
DTEND;TZID=UTC:20260331T120000
DTSTAMP:20260422T100714
CREATED:20260329T211842Z
LAST-MODIFIED:20260329T214003Z
UID:1045-1774944000-1774958400@fultoncountyspeaks.com
SUMMARY:ABLECHILD -Awareness of the Gifted Child
DESCRIPTION:Celebrating 25 years of child advocacy\, AbleChild is presenting Awareness of the Gifted Child exhibit at South Wing of the Georgia State Capitol on March 31\, 2026\, from 8:00 a.m. to 12:00 p.m. \nThe exhibit is dedicated to raising awareness of the Gifted Child. For decades\, the traits of gifted children have closely mirrored those often labeled as ADHD\, leading many gifted children to be misunderstood. \nBy recognizing the gifted child\, this exhibit represents a step forward toward protecting and valuing every child’s inherent abilities.  Every child is a gift!        Learn more HERE.
URL:https://fultoncountyspeaks.com/event/ablechild-awareness-of-the-gifted-child/
LOCATION:Georgia State Capitol\, 206 Washington Street\, Atlanta\, Georgia\, 30334
CATEGORIES:Community events
ATTACH;FMTTYPE=image/png:https://fultoncountyspeaks.com/wp-content/uploads/2026/03/boy.png
END:VEVENT
BEGIN:VEVENT
DTSTART;VALUE=DATE:20260324
DTEND;VALUE=DATE:20260325
DTSTAMP:20260422T100714
CREATED:20260226T164930Z
LAST-MODIFIED:20260324T132753Z
UID:1026-1774310400-1774396799@fultoncountyspeaks.com
SUMMARY:National Adverse Drug Event Awareness Day
DESCRIPTION:NADE Day was established by the American Society of Pharmacovigilance to raise awareness about Adverse Drug Events and methods of prevention. \nThe event is in DC\, but anyone can register to attend the live streamed event – 10 am to 4pm. Register at THIRD CAUSE CAMPAIGN (You will also get access to the recordings.) \nThe public can also observe the day by learning about ADVERSE DRUG EVENTS\, reporting adverse events to MedWatch\, and spreading awareness on social media or talking to friends.
URL:https://fultoncountyspeaks.com/event/national-adverse-drug-event-awareness-day-2/
LOCATION:Georgia
CATEGORIES:Community events
ATTACH;FMTTYPE=image/jpeg:https://fultoncountyspeaks.com/wp-content/uploads/2026/02/AdobeStock_1867719158-scaled.jpeg
END:VEVENT
BEGIN:VEVENT
DTSTART;TZID=UTC:20260210T090000
DTEND;TZID=UTC:20260210T110000
DTSTAMP:20260422T100714
CREATED:20260128T143909Z
LAST-MODIFIED:20260128T143909Z
UID:997-1770714000-1770721200@fultoncountyspeaks.com
SUMMARY:Bring Awareness to Anti Human Trafficking Advocacy Day- February 10
DESCRIPTION:Your Voice matters! Join us for the 16th annual Anti Human Trafficking Advocacy Day.  \nWe are advocating for legislation that will change the landscape of human trafficking. \nThe event will be held at Central Presbyterian Church across the street from the Capitol.  We will begin promptly at 9am. \nRegister to attend and support HERE \nFor carpool information email fultoncountyspeaks@proton.me
URL:https://fultoncountyspeaks.com/event/bring-awareness-to-anti-human-trafficking-advocacy-day-february-10/
LOCATION:Georgia State Capitol\, 206 Washington Street\, Atlanta\, Georgia\, 30334
CATEGORIES:Community events
ATTACH;FMTTYPE=image/png:https://fultoncountyspeaks.com/wp-content/uploads/2026/01/Screenshot-286.png
END:VEVENT
BEGIN:VEVENT
DTSTART;TZID=UTC:20260130T110000
DTEND;TZID=UTC:20260130T170000
DTSTAMP:20260422T100714
CREATED:20260128T061844Z
LAST-MODIFIED:20260128T061953Z
UID:993-1769770800-1769792400@fultoncountyspeaks.com
SUMMARY:Join GRTL Annual March at Liberty Plaza January 30\, 2026 
DESCRIPTION:Did you know that there are now 11 U.S. states that have legalized euthanasia? Stand for life. Come march with us. \nProtect Life from Beginning to End.  Stand Boldly for Human Dignity. \nRegister HERE \nGRTL Video \n 
URL:https://fultoncountyspeaks.com/event/join-grtl-annual-march-at-liberty-plaza-january-30-2026/
LOCATION:Liberty Plaza\, 262 Capitol Ave\, Atlanta
CATEGORIES:Community events
ATTACH;FMTTYPE=image/jpeg:https://fultoncountyspeaks.com/wp-content/uploads/2024/12/IMG_2085.jpg
END:VEVENT
BEGIN:VEVENT
DTSTART;TZID=UTC:20260122T180000
DTEND;TZID=UTC:20260122T210000
DTSTAMP:20260422T100714
CREATED:20241227T160659Z
LAST-MODIFIED:20260101T183700Z
UID:231-1769104800-1769115600@fultoncountyspeaks.com
SUMMARY:Fulton School Board Meeting
DESCRIPTION:The Fulton County Board of Education welcomes citizen comment.  Call 470-254-6885 to register to speak at the meeting. \n  \nNorth Learning Center\n450 Northridge Parkway\nSandy Springs\, GA 30350
URL:https://fultoncountyspeaks.com/event/fulton-county-school-board-meeting-2/
LOCATION:Fulton School Board\, 450 Northridge Parkway\, Sandy Springs\, Georgia\, 30350
CATEGORIES:Community events
ATTACH;FMTTYPE=image/png:https://fultoncountyspeaks.com/wp-content/uploads/2024/12/Screenshot-126.png
END:VEVENT
BEGIN:VEVENT
DTSTART;TZID=UTC:20251205T180000
DTEND;TZID=UTC:20260104T210000
DTSTAMP:20260422T100714
CREATED:20251209T051824Z
LAST-MODIFIED:20251209T060754Z
UID:958-1764957600-1767560400@fultoncountyspeaks.com
SUMMARY:Lights on the Loop in Alpharetta
DESCRIPTION:Lights on the Loop is Alpharetta’s main Christmas light show. It’s a free\, month-long event along the Alpha Loop trail. There is a Winter Village\, themed weekends and popular home displays like Pierce Lights (370 Oak Terrace) \nThe Alpha loop is a link of multi-use trails\, linking Avalon\, Downtown\, North Point Eco District and Northwinds. \n 
URL:https://fultoncountyspeaks.com/event/lights-on-the-loop-in-alpharetta/
LOCATION:Alpharetta Loop
CATEGORIES:Community events
ATTACH;FMTTYPE=image/png:https://fultoncountyspeaks.com/wp-content/uploads/2025/12/christmaslightsalpharetta.png
END:VEVENT
BEGIN:VEVENT
DTSTART;TZID=UTC:20251121T120000
DTEND;TZID=UTC:20251223T210000
DTSTAMP:20260422T100714
CREATED:20251209T062450Z
LAST-MODIFIED:20251209T062719Z
UID:961-1763726400-1766523600@fultoncountyspeaks.com
SUMMARY:Christkindl Market at Bulloch Hall in Roswell
DESCRIPTION:Enjoy the holiday decorations\, activities and children’s train for free. Holiday vendors with authentic food and drink and a biergarten make this Christkindl authentic! \nFind out about parking and shuttles HERE. \n 
URL:https://fultoncountyspeaks.com/event/christkindl-market-at-bulloch-hall-in-roswell/
LOCATION:Bulloch Hall\, 180 Bulloch Road\, Roswell\, Ge\, 30075
CATEGORIES:Community events
ATTACH;FMTTYPE=image/png:https://fultoncountyspeaks.com/wp-content/uploads/2025/12/bulloch-hall.png
END:VEVENT
BEGIN:VEVENT
DTSTART;TZID=UTC:20250927T100000
DTEND;TZID=UTC:20250927T123000
DTSTAMP:20260422T100714
CREATED:20250926T032105Z
LAST-MODIFIED:20250926T135428Z
UID:884-1758967200-1758976200@fultoncountyspeaks.com
SUMMARY:Rally For RFK JR: presented by The Children's Health Defense
DESCRIPTION:Join fellow health freedom warriors nationwide to express gratitude to RFK Jr. for his unwavering dedication to protecting the health of the nation and to Make America Healthy Again! \nAt the Alpharetta Green – Free parking: 92 Milton Ave of 1138 Park Plaza. \nPresented by the Children’s Health Defense.
URL:https://fultoncountyspeaks.com/event/rally-for-rfk-jr-presented-by-childrens-health-defense/
LOCATION:The Alpharetta Green\, 34 S. Main Street\, Alpharetta\, Georgia
CATEGORIES:Community events
ATTACH;FMTTYPE=image/jpeg:https://fultoncountyspeaks.com/wp-content/uploads/2025/09/rfkjr-1-1.jpg
END:VEVENT
BEGIN:VEVENT
DTSTART;TZID=UTC:20250828T170000
DTEND;TZID=UTC:20250828T190000
DTSTAMP:20260422T100714
CREATED:20250820T135238Z
LAST-MODIFIED:20250820T163701Z
UID:813-1756400400-1756407600@fultoncountyspeaks.com
SUMMARY:"Freedom is the Best Medicine" Panel
DESCRIPTION:Join the Healthy Americans Panel at Rally Point Grille on Protecting Your Medical Rights.  Seats are limited. SIGN UP NOW at tpaction.com/medicalrights.  Bob Schwartz of rxisks.com will be speaking on the panel!
URL:https://fultoncountyspeaks.com/event/freedom-is-the-best-medicine-panel/
LOCATION:Rally Point Grille\, 10009 GA-92\, Woodstock\, GA\, 30188
CATEGORIES:Community events
ATTACH;FMTTYPE=image/png:https://fultoncountyspeaks.com/wp-content/uploads/2025/08/Rally-point-Grille.png
END:VEVENT
BEGIN:VEVENT
DTSTART;TZID=UTC:20250704T065000
DTEND;TZID=UTC:20250704T120000
DTSTAMP:20260422T100714
CREATED:20250703T032115Z
LAST-MODIFIED:20250703T032115Z
UID:767-1751611800-1751630400@fultoncountyspeaks.com
SUMMARY:Celebrate Independence with community at the Peachtree Road Race!
DESCRIPTION:If you are not running Peachtree Road race you can still join in the festivities of the world’s largest 10 K run. Celebrate Independence and community! Wear your patriotic attire and bring plenty of water.  Maps and everything you need to know HERE. \n 
URL:https://fultoncountyspeaks.com/event/celebrate-independence-with-community-at-the-peachtree-road-race/
LOCATION:Lenox Square\, 3393 Peachtree Road
CATEGORIES:Community events
ATTACH;FMTTYPE=image/jpeg:https://fultoncountyspeaks.com/wp-content/uploads/2025/07/AdobeStock_3855326.jpeg
END:VEVENT
BEGIN:VEVENT
DTSTART;TZID=UTC:20250609T100000
DTEND;TZID=UTC:20250825T163000
DTSTAMP:20260422T100714
CREATED:20250619T213311Z
LAST-MODIFIED:20250619T213311Z
UID:744-1749463200-1756139400@fultoncountyspeaks.com
SUMMARY:Butterfly encounter at the Chatahoochee Nature Center
DESCRIPTION:See hundreds of butterflies at the Butterfly Encounter at the Chattahoochee Nature Center. Brings friends\, the kids and your camera to experience these fluttering beauties.  Kids can even learn how to make a butterfly garden at home!  Open Daily.
URL:https://fultoncountyspeaks.com/event/butterfly-encounter-at-the-chatahoochee-nature-center/
LOCATION:Chatahoochee Nature Center
CATEGORIES:Community events
ATTACH;FMTTYPE=image/jpeg:https://fultoncountyspeaks.com/wp-content/uploads/2025/06/butterfly-1-scaled.jpg
END:VEVENT
BEGIN:VEVENT
DTSTART;TZID=UTC:20250607T090000
DTEND;TZID=UTC:20250608T170000
DTSTAMP:20260422T100714
CREATED:20250527T152234Z
LAST-MODIFIED:20250527T171223Z
UID:717-1749286800-1749402000@fultoncountyspeaks.com
SUMMARY:Chattahoochee Nature Center's 26th Annual Flying Colors Butterfly Festival
DESCRIPTION:The Chattahoochee Nature Center is hosting their 26th Annual Flying Colors Butterfly Festival  –  Saturday\, June 7\, 2025 at 09:00 am-3:00 pm & Sunday\, June 8\, 2025 at 10:00 am-5:00 pm (EDT).  The center provides a fun atmosphere to see and learn about the various stages of life for a butterfly.  A great event for all ages with food and live entertainment. \n  \n  \n 
URL:https://fultoncountyspeaks.com/event/the-chattahoochee-nature-centers-26th-annual-flying-colors-butterfly-festival/
LOCATION:Chattahoochee Nature Center\, 9135 Willeo Road\, Roswell\, 30075\, United States
CATEGORIES:Community events
ATTACH;FMTTYPE=image/jpeg:https://fultoncountyspeaks.com/wp-content/uploads/2025/05/AdobeStock_216304571-scaled.jpeg
END:VEVENT
BEGIN:VEVENT
DTSTART;TZID=UTC:20250524T100000
DTEND;TZID=UTC:20250525T170000
DTSTAMP:20260422T100714
CREATED:20250515T045032Z
LAST-MODIFIED:20250517T020535Z
UID:685-1748080800-1748192400@fultoncountyspeaks.com
SUMMARY:Alpharetta Arts Streetfest
DESCRIPTION:Alpharetta Arts Streetfest happens on Memorial Day Weekend. Enjoy colorful art\, the food court\, and a kid’s zone\, with face painting and other fun activities!
URL:https://fultoncountyspeaks.com/event/alpharetta-arts-streetfest/
LOCATION:Wills Park\, Alpharetta
CATEGORIES:Community events
ATTACH;FMTTYPE=image/jpeg:https://fultoncountyspeaks.com/wp-content/uploads/2025/05/AdobeStock_220113932-scaled.jpeg
END:VEVENT
BEGIN:VEVENT
DTSTART;TZID=UTC:20250412T083000
DTEND;TZID=UTC:20251123T120000
DTSTAMP:20260422T100714
CREATED:20250527T144836Z
LAST-MODIFIED:20250527T152620Z
UID:715-1744446600-1763899200@fultoncountyspeaks.com
SUMMARY:Roswell Farmers Market -- Every Saturday
DESCRIPTION:Get connected with your community – The Roswell Farmers market is a great family experience that offers high-quality\, fresh seasonal produce\, flowers\, baked and handcrafted goods.  Enjoy the outdoor live music\, chef demonstrations and other elements as you wander in and out of the various vendors with family\, friends and neighbors. \n  \n 
URL:https://fultoncountyspeaks.com/event/roswell-farmers-market-every-saturday-april-november-2025/
LOCATION:Roswell City Hall\, 38 Hill Street\, Roswell\, GA\, 30075\, United States
CATEGORIES:Community events
ATTACH;FMTTYPE=image/jpeg:https://fultoncountyspeaks.com/wp-content/uploads/2024/12/AdobeStock_543666274-scaled.jpeg
END:VEVENT
BEGIN:VEVENT
DTSTART;TZID=UTC:20250405T080000
DTEND;TZID=UTC:20251115T123000
DTSTAMP:20260422T100714
CREATED:20250405T042308Z
LAST-MODIFIED:20250517T021625Z
UID:609-1743840000-1763209800@fultoncountyspeaks.com
SUMMARY:Alpharetta Farmers Market
DESCRIPTION:Alpharetta Farmers Market\, is the place to enjoy farm-fresh produce and meats\, yummy food\, specialty drinks\, and great company!
URL:https://fultoncountyspeaks.com/event/alpharetta-farmers-market/
LOCATION:Downtown Alpharetta\, 2 Park Plaza\, Alpharetta\, Georgia\, 30009
CATEGORIES:Community events
ATTACH;FMTTYPE=image/jpeg:https://fultoncountyspeaks.com/wp-content/uploads/2025/04/AdobeStock_115252465-1-scaled.jpeg
END:VEVENT
END:VCALENDAR